BEGIN:VCALENDAR
VERSION:2.0
PRODID:-//Troop 26, Tulsa, OK - ECPv6.14.2//NONSGML v1.0//EN
CALSCALE:GREGORIAN
METHOD:PUBLISH
X-ORIGINAL-URL:http://www.troop26.org
X-WR-CALDESC:Events for Troop 26, Tulsa, OK
REFRESH-INTERVAL;VALUE=DURATION:PT1H
X-Robots-Tag:noindex
X-PUBLISHED-TTL:PT1H
BEGIN:VTIMEZONE
TZID:America/Chicago
BEGIN:DAYLIGHT
TZOFFSETFROM:-0600
TZOFFSETTO:-0500
TZNAME:CDT
DTSTART:20210314T080000
END:DAYLIGHT
BEGIN:STANDARD
TZOFFSETFROM:-0500
TZOFFSETTO:-0600
TZNAME:CST
DTSTART:20211107T070000
END:STANDARD
END:VTIMEZONE
BEGIN:VEVENT
DTSTART;VALUE=DATE:20210522
DTEND;VALUE=DATE:20210524
DTSTAMP:20260423T050412
CREATED:20201130T044731Z
LAST-MODIFIED:20210512T033723Z
UID:5256-1621710000-1621796399@www.troop26.org
SUMMARY:Tulsa Ironman Triathlon
DESCRIPTION:
URL:http://www.troop26.org/event/tulsa-iron-man/
CATEGORIES:Service
END:VEVENT
BEGIN:VEVENT
DTSTART;TZID=America/Chicago:20210531T110000
DTEND;TZID=America/Chicago:20210531T130000
DTSTAMP:20260423T050412
CREATED:20210314T073205Z
LAST-MODIFIED:20210601T053405Z
UID:5376-1622458800-1622466000@www.troop26.org
SUMMARY:Postponed - - Floral Haven - Avenue of Flags  Postponed to Wednesday
DESCRIPTION:Click on link below \nAvenue of Flags | Memorial Day | Indian Nations Council | Tulsa | okscouts
URL:http://www.troop26.org/event/floral-haven-avenue-of-flags/
CATEGORIES:Service
END:VEVENT
END:VCALENDAR