BEGIN:VCALENDAR
VERSION:2.0
PRODID:-//Troop 26, Tulsa, OK - ECPv6.14.2//NONSGML v1.0//EN
CALSCALE:GREGORIAN
METHOD:PUBLISH
X-WR-CALNAME:Troop 26, Tulsa, OK
X-ORIGINAL-URL:http://www.troop26.org
X-WR-CALDESC:Events for Troop 26, Tulsa, OK
REFRESH-INTERVAL;VALUE=DURATION:PT1H
X-Robots-Tag:noindex
X-PUBLISHED-TTL:PT1H
BEGIN:VTIMEZONE
TZID:America/Chicago
BEGIN:DAYLIGHT
TZOFFSETFROM:-0600
TZOFFSETTO:-0500
TZNAME:CDT
DTSTART:20250309T080000
END:DAYLIGHT
BEGIN:STANDARD
TZOFFSETFROM:-0500
TZOFFSETTO:-0600
TZNAME:CST
DTSTART:20251102T070000
END:STANDARD
END:VTIMEZONE
BEGIN:VEVENT
DTSTART;TZID=America/Chicago:20250304T180000
DTEND;TZID=America/Chicago:20250304T190000
DTSTAMP:20260422T045024
CREATED:20240826T204939Z
LAST-MODIFIED:20250304T043015Z
UID:6418-1741111200-1741114800@www.troop26.org
SUMMARY:POSTPONED - Sticks @ 6 - Moved to Mar 6
DESCRIPTION:
URL:http://www.troop26.org/event/sticks-6-5/
CATEGORIES:Sticks and TLC
END:VEVENT
BEGIN:VEVENT
DTSTART;TZID=America/Chicago:20250304T190000
DTEND;TZID=America/Chicago:20250304T200000
DTSTAMP:20260422T045025
CREATED:20240826T205116Z
LAST-MODIFIED:20250304T042713Z
UID:6419-1741114800-1741118400@www.troop26.org
SUMMARY:POSTPONED - Troop Leaders Council (TLC) - Moved to Mar 6
DESCRIPTION:
URL:http://www.troop26.org/event/troop-leaders-council-tlc-3/
CATEGORIES:Sticks and TLC
END:VEVENT
END:VCALENDAR