BEGIN:VCALENDAR
VERSION:2.0
PRODID:-//Troop 26, Tulsa, OK - ECPv6.14.2//NONSGML v1.0//EN
CALSCALE:GREGORIAN
METHOD:PUBLISH
X-ORIGINAL-URL:http://www.troop26.org
X-WR-CALDESC:Events for Troop 26, Tulsa, OK
REFRESH-INTERVAL;VALUE=DURATION:PT1H
X-Robots-Tag:noindex
X-PUBLISHED-TTL:PT1H
BEGIN:VTIMEZONE
TZID:America/Chicago
BEGIN:DAYLIGHT
TZOFFSETFROM:-0600
TZOFFSETTO:-0500
TZNAME:CDT
DTSTART:20240310T080000
END:DAYLIGHT
BEGIN:STANDARD
TZOFFSETFROM:-0500
TZOFFSETTO:-0600
TZNAME:CST
DTSTART:20241103T070000
END:STANDARD
END:VTIMEZONE
BEGIN:VEVENT
DTSTART;TZID=America/Chicago:20240903T180000
DTEND;TZID=America/Chicago:20240903T200000
DTSTAMP:20260422T164519
CREATED:20230917T194449Z
LAST-MODIFIED:20240819T023227Z
UID:6285-1725386400-1725393600@www.troop26.org
SUMMARY:Sticks@6 and TLC at 7
DESCRIPTION:
URL:http://www.troop26.org/event/sticks6-and-tlc-at-7-13/
CATEGORIES:Sticks and TLC
END:VEVENT
END:VCALENDAR